BEGIN:VCALENDAR
VERSION:2.0
PRODID:-//ChamberMaster//Event Calendar 2.0//EN
METHOD:PUBLISH
X-PUBLISHED-TTL:P3D
REFRESH-INTERVAL:P3D
CALSCALE:GREGORIAN
BEGIN:VEVENT
DTSTART:20211208T223000Z
DTEND:20211209T003000Z
X-MICROSOFT-CDO-ALLDAYEVENT:FALSE
SUMMARY:Board of Directors Meeting
DESCRIPTION:Board of Directors Meeting
X-ALT-DESC;FMTTYPE=text/html:Board of Directors Meeting
LOCATION:SCWBA Office
UID:e.9396.222
SEQUENCE:3
DTSTAMP:20260423T000911Z
URL:http://scwbawi.memberzone.com/events/details/board-of-directors-meeting-12-08-2021-222
END:VEVENT

END:VCALENDAR
