BEGIN:VCALENDAR
VERSION:2.0
PRODID:-//ChamberMaster//Event Calendar 2.0//EN
METHOD:PUBLISH
X-PUBLISHED-TTL:P3D
REFRESH-INTERVAL:P3D
CALSCALE:GREGORIAN
BEGIN:VEVENT
DTSTART:20181011T133000Z
DTEND:20181011T143000Z
X-MICROSOFT-CDO-ALLDAYEVENT:FALSE
SUMMARY:Membership Committee Meeting
DESCRIPTION:Membership Committee Meeting
X-ALT-DESC;FMTTYPE=text/html:Membership Committee Meeting
LOCATION:SCWBA Office
UID:e.9396.317
SEQUENCE:3
DTSTAMP:20260426T033443Z
URL:http://scwbawi.memberzone.com/events/details/membership-committee-meeting-10-11-2018-317
END:VEVENT

END:VCALENDAR
